BEGIN:VCALENDAR
VERSION:2.0
PRODID:-//Muziekvereniging De Gildezonen - ECPv6.5.0.1//NONSGML v1.0//EN
CALSCALE:GREGORIAN
METHOD:PUBLISH
X-ORIGINAL-URL:https://www.gildezonen.nl
X-WR-CALDESC:Evenementen voor Muziekvereniging De Gildezonen
REFRESH-INTERVAL;VALUE=DURATION:PT1H
X-Robots-Tag:noindex
X-PUBLISHED-TTL:PT1H
BEGIN:VTIMEZONE
TZID:Europe/Amsterdam
BEGIN:DAYLIGHT
TZOFFSETFROM:+0100
TZOFFSETTO:+0200
TZNAME:CEST
DTSTART:20240331T010000
END:DAYLIGHT
BEGIN:STANDARD
TZOFFSETFROM:+0200
TZOFFSETTO:+0100
TZNAME:CET
DTSTART:20241027T010000
END:STANDARD
END:VTIMEZONE
BEGIN:VEVENT
DTSTART;TZID=Europe/Amsterdam:20241011T193000
DTEND;TZID=Europe/Amsterdam:20241011T210000
DTSTAMP:20260423T203226
CREATED:20241010T195917Z
LAST-MODIFIED:20241010T195917Z
UID:810-1728675000-1728680400@www.gildezonen.nl
SUMMARY:Feel the music
DESCRIPTION:Graag delen wij met u de passie van onze orkesten. Voel hun energie en geniet van de muziek in dit\, gratis toegankelijk\, concert! Maak kennis met onze vereniging en ervaar hoe leuk samen muziek maken is.
URL:https://www.gildezonen.nl/evenement/feel-the-music/
LOCATION:Bergspil\, Tolbergcentrum 158\, Roosendaal\, 4708 HK\, Netherlands
CATEGORIES:A-orkest,Opleidingsorkest
END:VEVENT
END:VCALENDAR