BEGIN:VCALENDAR
VERSION:2.0
PRODID:-//Muziekvereniging De Gildezonen - ECPv6.5.0.1//NONSGML v1.0//EN
CALSCALE:GREGORIAN
METHOD:PUBLISH
X-ORIGINAL-URL:https://www.gildezonen.nl
X-WR-CALDESC:Evenementen voor Muziekvereniging De Gildezonen
REFRESH-INTERVAL;VALUE=DURATION:PT1H
X-Robots-Tag:noindex
X-PUBLISHED-TTL:PT1H
BEGIN:VTIMEZONE
TZID:Europe/Amsterdam
BEGIN:DAYLIGHT
TZOFFSETFROM:+0100
TZOFFSETTO:+0200
TZNAME:CEST
DTSTART:20250330T010000
END:DAYLIGHT
BEGIN:STANDARD
TZOFFSETFROM:+0200
TZOFFSETTO:+0100
TZNAME:CET
DTSTART:20251026T010000
END:STANDARD
END:VTIMEZONE
BEGIN:VEVENT
DTSTART;TZID=Europe/Amsterdam:20250607T150000
DTEND;TZID=Europe/Amsterdam:20250607T160000
DTSTAMP:20260424T052657
CREATED:20250426T171556Z
LAST-MODIFIED:20250529T100110Z
UID:848-1749308400-1749312000@www.gildezonen.nl
SUMMARY:Een koninklijk orkest!
DESCRIPTION:
URL:https://www.gildezonen.nl/evenement/een-koninklijk-orkest/
LOCATION:Cultuurhuis Bovendonk\, Bovendonk 111\, Roosendaal\, 4707 ZH\, Nederland
CATEGORIES:Opleidingsorkest
END:VEVENT
END:VCALENDAR