BEGIN:VCALENDAR
VERSION:2.0
PRODID:-//Muziekvereniging De Gildezonen - ECPv6.5.0.1//NONSGML v1.0//EN
CALSCALE:GREGORIAN
METHOD:PUBLISH
X-WR-CALNAME:Muziekvereniging De Gildezonen
X-ORIGINAL-URL:https://www.gildezonen.nl
X-WR-CALDESC:Evenementen voor Muziekvereniging De Gildezonen
REFRESH-INTERVAL;VALUE=DURATION:PT1H
X-Robots-Tag:noindex
X-PUBLISHED-TTL:PT1H
BEGIN:VTIMEZONE
TZID:Europe/Amsterdam
BEGIN:DAYLIGHT
TZOFFSETFROM:+0100
TZOFFSETTO:+0200
TZNAME:CEST
DTSTART:20250330T010000
END:DAYLIGHT
BEGIN:STANDARD
TZOFFSETFROM:+0200
TZOFFSETTO:+0100
TZNAME:CET
DTSTART:20251026T010000
END:STANDARD
END:VTIMEZONE
BEGIN:VEVENT
DTSTART;TZID=Europe/Amsterdam:20251212T200000
DTEND;TZID=Europe/Amsterdam:20251212T235900
DTSTAMP:20260424T155408
CREATED:20250926T120917Z
LAST-MODIFIED:20251108T150222Z
UID:877-1765569600-1765583940@www.gildezonen.nl
SUMMARY:Happy Merry Christmas party
DESCRIPTION:
URL:https://www.gildezonen.nl/evenement/happy-merry-christmas-party/
LOCATION:Bergspil\, Tolbergcentrum 158\, Roosendaal\, 4708 HK\, Netherlands
CATEGORIES:A-orkest,Opleidingsorkest
END:VEVENT
END:VCALENDAR