BEGIN:VCALENDAR
VERSION:2.0
PRODID:-//Muziekvereniging De Gildezonen - ECPv6.5.0.1//NONSGML v1.0//EN
CALSCALE:GREGORIAN
METHOD:PUBLISH
X-WR-CALNAME:Muziekvereniging De Gildezonen
X-ORIGINAL-URL:https://www.gildezonen.nl
X-WR-CALDESC:Evenementen voor Muziekvereniging De Gildezonen
REFRESH-INTERVAL;VALUE=DURATION:PT1H
X-Robots-Tag:noindex
X-PUBLISHED-TTL:PT1H
BEGIN:VTIMEZONE
TZID:Europe/Amsterdam
BEGIN:DAYLIGHT
TZOFFSETFROM:+0100
TZOFFSETTO:+0200
TZNAME:CEST
DTSTART:20240331T010000
END:DAYLIGHT
BEGIN:STANDARD
TZOFFSETFROM:+0200
TZOFFSETTO:+0100
TZNAME:CET
DTSTART:20241027T010000
END:STANDARD
END:VTIMEZONE
BEGIN:VEVENT
DTSTART;TZID=Europe/Amsterdam:20240707T150000
DTEND;TZID=Europe/Amsterdam:20240707T170000
DTSTAMP:20260423T144921
CREATED:20240430T121129Z
LAST-MODIFIED:20240430T121129Z
UID:690-1720364400-1720371600@www.gildezonen.nl
SUMMARY:Seizoenafsluiting in speeltuin Vrouwenhof
DESCRIPTION:Net als vorig jaar sluiten wij ons seizoen af in speeltuin Vrouwenhof in Roosendaal. Meer informatie volgt z.s.m. noteer alvast in uw agenda.
URL:https://www.gildezonen.nl/evenement/seizoenafsluiting-in-speeltuin-vrouwenhof/
LOCATION:Speeltuin Vrouwenhof\, Vrouwenhoflaan 3\, Roosendaal\, Nederland
CATEGORIES:A-orkest,Opleidingsorkest
END:VEVENT
END:VCALENDAR