BEGIN:VCALENDAR
VERSION:2.0
PRODID:-//Muziekvereniging De Gildezonen - ECPv6.5.0.1//NONSGML v1.0//EN
CALSCALE:GREGORIAN
METHOD:PUBLISH
X-WR-CALNAME:Muziekvereniging De Gildezonen
X-ORIGINAL-URL:https://www.gildezonen.nl
X-WR-CALDESC:Evenementen voor Muziekvereniging De Gildezonen
REFRESH-INTERVAL;VALUE=DURATION:PT1H
X-Robots-Tag:noindex
X-PUBLISHED-TTL:PT1H
BEGIN:VTIMEZONE
TZID:Europe/Amsterdam
BEGIN:DAYLIGHT
TZOFFSETFROM:+0100
TZOFFSETTO:+0200
TZNAME:CEST
DTSTART:20250330T010000
END:DAYLIGHT
BEGIN:STANDARD
TZOFFSETFROM:+0200
TZOFFSETTO:+0100
TZNAME:CET
DTSTART:20251026T010000
END:STANDARD
END:VTIMEZONE
BEGIN:VEVENT
DTSTART;TZID=Europe/Amsterdam:20250518T131500
DTEND;TZID=Europe/Amsterdam:20250518T170000
DTSTAMP:20260424T013323
CREATED:20250426T172338Z
LAST-MODIFIED:20250426T172338Z
UID:854-1747574100-1747587600@www.gildezonen.nl
SUMMARY:Sparkling Youth festival
DESCRIPTION:
URL:https://www.gildezonen.nl/evenement/sparkling-youth-festival/
LOCATION:Sint Jansstraat 144\, Essen België\, Sint Jansstraat 144\, Essen\, België
CATEGORIES:Opleidingsorkest
END:VEVENT
END:VCALENDAR